BEGIN:VCALENDAR
VERSION:2.0
PRODID:-// eRoom plugin //NONSGML v1.0//EN
CALSCALE:GREGORIAN
BEGIN:VEVENT
UID:eRoom-1777020380
SUMMARY:TEST for DEMO meeting
LOCATION:Zoom
DESCRIPTION:TEST for DEMO meeting is inviting you to a scheduled Zoom meeti
 ng.\n\nJoin Zoom Meeting\nhttps://us02web.zoom.us/j/86940506957?pwd=ZEdSeU
 QzS0kzY21ldDVjNjhEVDRNdz09\n\nMeeting ID: 86940506957\nPasscode: 844642\n
URL;VALUE=URI:https://us02web.zoom.us/j/86940506957?pwd=ZEdSeUQzS0kzY21ldDVjNjhEVDRNdz09
DTSTART:20221020T060000Z
DTEND:20221020T070000Z
DTSTAMP:20260424T084620Z
BEGIN:VALARM
ACTION:DISPLAY
DESCRIPTION:Reminder
TRIGGER;RELATED=START:-PT15M
END:VALARM
END:VEVENT
END:VCALENDAR