BEGIN:VCALENDAR
VERSION:2.0
PRODID:-// eRoom plugin //NONSGML v1.0//EN
CALSCALE:GREGORIAN
BEGIN:VEVENT
UID:eRoom-1777020070
SUMMARY:DEMO test01
LOCATION:Zoom
DESCRIPTION:DEMO test01 is inviting you to a scheduled Zoom meeting.\n\nJoi
 n Zoom Meeting\nhttps://us02web.zoom.us/j/84973859711?pwd=ME5yczUzVFBJWDdO
 VXUzYlFkbVh1UT09\n\nMeeting ID: 84973859711\n
URL;VALUE=URI:https://us02web.zoom.us/j/84973859711?pwd=ME5yczUzVFBJWDdOVXUzYlFkbVh1UT09
DTSTART:20220730T150000Z
DTEND:20220731T030000Z
DTSTAMP:20260424T084110Z
BEGIN:VALARM
ACTION:DISPLAY
DESCRIPTION:Reminder
TRIGGER;RELATED=START:-PT15M
END:VALARM
END:VEVENT
END:VCALENDAR